BEGIN:VCALENDAR
VERSION:2.0
PRODID:-//wp-events-plugin.com//7.2.3.1//EN
TZID:Australia/Darwin
X-WR-TIMEZONE:Australia/Darwin
BEGIN:VEVENT
UID:368@topendhash.com
DTSTART;TZID=Australia/Darwin:20260221T183000
DTEND;TZID=Australia/Darwin:20260221T223000
DTSTAMP:20260204T071152Z
URL:https://topendhash.com/events/the-big-celebration-dance-nightcliff-com
 munity-hall-bauhinia-street-click-on-this-link-for-misdirections/
SUMMARY:The BIG CELEBRATION DANCE - Nightcliff Community Hall\,  Bauhinia S
 treet - Click on this link for Misdirections
DESCRIPTION:Nightcliff Community Hall\,  Bauhinia Street\n\n
END:VEVENT
BEGIN:VTIMEZONE
TZID:Australia/Darwin
X-LIC-LOCATION:Australia/Darwin
BEGIN:STANDARD
DTSTART:20250221T183000
TZOFFSETFROM:+0930
TZOFFSETTO:+0930
TZNAME:ACST
END:STANDARD
END:VTIMEZONE
END:VCALENDAR