BEGIN:VCALENDAR
VERSION:2.0
PRODID:-//wp-events-plugin.com//7.2.3.1//EN
TZID:Australia/Darwin
X-WR-TIMEZONE:Australia/Darwin
BEGIN:VEVENT
UID:266@topendhash.com
DTSTART;TZID=Australia/Darwin:20221003T183000
DTEND;TZID=Australia/Darwin:20221003T234500
DTSTAMP:20220905T065929Z
URL:https://topendhash.com/events/rural-hash-2222-run-tu-tu-run-1830h-at-f
 reds-pass-reserve/
SUMMARY:RURAL HASH 2222 RUN - TU TU RUN - 1830h AT FREDS PASS RESERVE - CLI
 CK ON THIS LINK FOR INFO
DESCRIPTION:
END:VEVENT
BEGIN:VTIMEZONE
TZID:Australia/Darwin
X-LIC-LOCATION:Australia/Darwin
BEGIN:STANDARD
DTSTART:20211003T183000
TZOFFSETFROM:+0930
TZOFFSETTO:+0930
TZNAME:ACST
END:STANDARD
END:VTIMEZONE
END:VCALENDAR