BEGIN:VCALENDAR
VERSION:2.0
PRODID:-//wp-events-plugin.com//7.2.3.1//EN
TZID:Australia/Darwin
X-WR-TIMEZONE:Australia/Darwin
BEGIN:VEVENT
UID:53@topendhash.com
DTSTART;TZID=Australia/Darwin:20200312T180000
DTEND;TZID=Australia/Darwin:20200312T233000
DTSTAMP:20200310T101635Z
URL:https://topendhash.com/events/run-number-975-play-school-and-durex-sec
 ond-best-run-of-the-year/
SUMMARY:Run Number 975 - Durex and Play School - Vacant Block Next To 12 Sa
 lonika Avenue - CLICK ON LINK FOR GOOGLE MAPS
DESCRIPTION:Vacant Block Next To 12 Salonika Avenue\nParap\n\n
END:VEVENT
BEGIN:VTIMEZONE
TZID:Australia/Darwin
X-LIC-LOCATION:Australia/Darwin
BEGIN:STANDARD
DTSTART:20190313T180000
TZOFFSETFROM:+0930
TZOFFSETTO:+0930
TZNAME:ACST
END:STANDARD
END:VTIMEZONE
END:VCALENDAR