BEGIN:VCALENDAR
VERSION:2.0
PRODID:-//wp-events-plugin.com//7.2.3.1//EN
TZID:Australia/Darwin
X-WR-TIMEZONE:Australia/Darwin
BEGIN:VEVENT
UID:49@topendhash.com
DTSTART;TZID=Australia/Darwin:20200213T180000
DTEND;TZID=Australia/Darwin:20200213T233000
DTSTAMP:20200211T091808Z
URL:https://topendhash.com/events/run-number-971-set-by-hash-piss-and-skid
 dy/
SUMMARY:Run Number 971 - Mr Ball Dangles and Skiddy - 31 Tambling Terrace W
 anguri - CLICK ON THIS LINK FOR GOOGLE MAPS
DESCRIPTION:31 Tambling Terrace Wanguri\n\n
END:VEVENT
BEGIN:VTIMEZONE
TZID:Australia/Darwin
X-LIC-LOCATION:Australia/Darwin
BEGIN:STANDARD
DTSTART:20190213T180000
TZOFFSETFROM:+0930
TZOFFSETTO:+0930
TZNAME:ACST
END:STANDARD
END:VTIMEZONE
END:VCALENDAR