BEGIN:VCALENDAR
VERSION:2.0
PRODID:-//wp-events-plugin.com//7.2.3.1//EN
TZID:Australia/Darwin
X-WR-TIMEZONE:Australia/Darwin
BEGIN:VEVENT
UID:48@topendhash.com
DTSTART;TZID=Australia/Darwin:20200130T180000
DTEND;TZID=Australia/Darwin:20200130T233000
DTSTAMP:20200115T092919Z
URL:https://topendhash.com/events/run-number-969-%e6%96%b0%e5%b9%b4%e5%bf%
 ab%e4%b9%90/
SUMMARY:Run Number 969 - Enola and HIV - 新年快乐 - 29 Boucaut Crescent
  - Malak - CLICK ON THIS LINK FOR GOOGLE MAPS
DESCRIPTION:新年快乐\n\nGong hei fat choy\n\nEnola and HIV\n\n29 Boucau
 t Crescent\n\n
END:VEVENT
BEGIN:VTIMEZONE
TZID:Australia/Darwin
X-LIC-LOCATION:Australia/Darwin
BEGIN:STANDARD
DTSTART:20190130T180000
TZOFFSETFROM:+0930
TZOFFSETTO:+0930
TZNAME:ACST
END:STANDARD
END:VTIMEZONE
END:VCALENDAR