BEGIN:VCALENDAR
VERSION:2.0
PRODID:-//wp-events-plugin.com//7.2.3.1//EN
TZID:Australia/Darwin
X-WR-TIMEZONE:Australia/Darwin
BEGIN:VEVENT
UID:47@topendhash.com
DTSTART;TZID=Australia/Darwin:20200123T180000
DTEND;TZID=Australia/Darwin:20200123T233000
DTSTAMP:20200121T090938Z
URL:https://topendhash.com/events/run-number-968-happy-birthday-to-wet-spo
 t/
SUMMARY:Run Number 968 - Wet Spot and Crusty at 19 - 23 Westralia Street\, 
 Stuart Park - CLICK ON LINK FOR GOOGLE MAP
DESCRIPTION:19 - 23 Westralia Street\, Stuart Park\n\n
END:VEVENT
BEGIN:VTIMEZONE
TZID:Australia/Darwin
X-LIC-LOCATION:Australia/Darwin
BEGIN:STANDARD
DTSTART:20190123T180000
TZOFFSETFROM:+0930
TZOFFSETTO:+0930
TZNAME:ACST
END:STANDARD
END:VTIMEZONE
END:VCALENDAR