BEGIN:VCALENDAR
VERSION:2.0
PRODID:-//wp-events-plugin.com//7.2.3.1//EN
TZID:Australia/Darwin
X-WR-TIMEZONE:Australia/Darwin
BEGIN:VEVENT
UID:46@topendhash.com
DTSTART;TZID=Australia/Darwin:20200116T180000
DTEND;TZID=Australia/Darwin:20200116T233000
DTSTAMP:20200115T095430Z
URL:https://topendhash.com/events/run-number-967-kama-sutra-and-happy-hook
 er/
SUMMARY:Run Number 967 - Happy Hooker and Kama Sutra at 319 Thomas Road\, H
 umpty Doo - THIS IS A NO DOG RUN - CLICK ON THIS LINK FOR GOOGLE MAP
DESCRIPTION:THIS WEEKS RUN IS A NO DOG RUN\n\n319 Thomas Road\nHumpty Doo\n
 \n
END:VEVENT
BEGIN:VTIMEZONE
TZID:Australia/Darwin
X-LIC-LOCATION:Australia/Darwin
BEGIN:STANDARD
DTSTART:20190116T180000
TZOFFSETFROM:+0930
TZOFFSETTO:+0930
TZNAME:ACST
END:STANDARD
END:VTIMEZONE
END:VCALENDAR