BEGIN:VCALENDAR
VERSION:2.0
PRODID:-//wp-events-plugin.com//7.2.3.1//EN
TZID:Australia/Darwin
X-WR-TIMEZONE:Australia/Darwin
BEGIN:VEVENT
UID:40@topendhash.com
DTSTART;TZID=Australia/Darwin:20191212T180000
DTEND;TZID=Australia/Darwin:20191212T233000
DTSTAMP:20191208T073508Z
URL:https://topendhash.com/events/run-number-962-hazbean-and-juggs-for-the
 -best-pies-in-darwin/
SUMMARY:Run Number 962 - Hazbean and Juggs at 90 Allwright Street\, Wanguri
  - CLICK ON THIS LINK FOR GOOGLE MAP
DESCRIPTION:90 Allwright Street\nWanguri\n\nClick on top left hand side of 
 map to enlarge\n\n\n
END:VEVENT
BEGIN:VTIMEZONE
TZID:Australia/Darwin
X-LIC-LOCATION:Australia/Darwin
BEGIN:STANDARD
DTSTART:20181212T180000
TZOFFSETFROM:+0930
TZOFFSETTO:+0930
TZNAME:ACST
END:STANDARD
END:VTIMEZONE
END:VCALENDAR