BEGIN:VCALENDAR
VERSION:2.0
PRODID:-//wp-events-plugin.com//7.2.3.1//EN
TZID:Australia/Darwin
X-WR-TIMEZONE:Australia/Darwin
BEGIN:VEVENT
UID:38@topendhash.com
DTSTART;TZID=Australia/Darwin:20191205T180000
DTEND;TZID=Australia/Darwin:20191205T233000
DTSTAMP:20200907T100442Z
URL:https://topendhash.com/events/run-number-961-lady-di-and-happy-hooker/
SUMMARY:Run Number 961 - Lady Di and Happy Hooker - 14 Redshank Court\, Bak
 ewell - CLICK ON THIS LINK FOR MIS-DIRECTIONS  -  PLEASE NOTE THIS IS STRI
 CTLY A NO DOG RUN
DESCRIPTION:14 Redshank Court\, Bakewell\n\nPLEASE NOTE\nTHIS IS STRICTLY A
  NO DOG RUN\n\nClick the top left hand side of the map to enlarge\n\n
END:VEVENT
BEGIN:VTIMEZONE
TZID:Australia/Darwin
X-LIC-LOCATION:Australia/Darwin
BEGIN:STANDARD
DTSTART:20181205T180000
TZOFFSETFROM:+0930
TZOFFSETTO:+0930
TZNAME:ACST
END:STANDARD
END:VTIMEZONE
END:VCALENDAR