BEGIN:VCALENDAR
VERSION:2.0
PRODID:-//wp-events-plugin.com//7.2.3.1//EN
TZID:Australia/Darwin
X-WR-TIMEZONE:Australia/Darwin
BEGIN:VEVENT
UID:37@topendhash.com
DTSTART;TZID=Australia/Darwin:20191128T180000
DTEND;TZID=Australia/Darwin:20191128T233000
DTSTAMP:20191119T084535Z
URL:https://topendhash.com/events/run-number-960-cummittee-christmas-run/
SUMMARY:Run Number 960 - Cummittee - Christmas Run at Jingili Water Gardens
  - CLICK ON THIS LINK FOR GOOGLE MAP
DESCRIPTION:Jingili Water Gardens\nRapid Creek\n\nClick on the top left han
 d side of the map to enlarge\n\n\n
END:VEVENT
BEGIN:VTIMEZONE
TZID:Australia/Darwin
X-LIC-LOCATION:Australia/Darwin
BEGIN:STANDARD
DTSTART:20181128T180000
TZOFFSETFROM:+0930
TZOFFSETTO:+0930
TZNAME:ACST
END:STANDARD
END:VTIMEZONE
END:VCALENDAR