BEGIN:VCALENDAR
VERSION:2.0
PRODID:-//wp-events-plugin.com//7.2.3.1//EN
TZID:Australia/Darwin
X-WR-TIMEZONE:Australia/Darwin
BEGIN:VEVENT
UID:36@topendhash.com
DTSTART;TZID=Australia/Darwin:20191121T180000
DTEND;TZID=Australia/Darwin:20191121T233000
DTSTAMP:20191119T085615Z
URL:https://topendhash.com/events/run-number-959-little-johnny/
SUMMARY:Run Number 959 - Little Johnny at 35 McInnis Circuit\, Driver - CLI
 CK ON THIS LINK FOR GOOGLE MAP
DESCRIPTION:35 McInnis Circuit\nDriver\n\nClick on the top left hand side o
 f the map to enlarge\n
END:VEVENT
BEGIN:VTIMEZONE
TZID:Australia/Darwin
X-LIC-LOCATION:Australia/Darwin
BEGIN:STANDARD
DTSTART:20181121T180000
TZOFFSETFROM:+0930
TZOFFSETTO:+0930
TZNAME:ACST
END:STANDARD
END:VTIMEZONE
END:VCALENDAR