BEGIN:VCALENDAR
VERSION:2.0
PRODID:-//wp-events-plugin.com//7.2.3.1//EN
TZID:Australia/Darwin
X-WR-TIMEZONE:Australia/Darwin
BEGIN:VEVENT
UID:35@topendhash.com
DTSTART;TZID=Australia/Darwin:20191114T180000
DTEND;TZID=Australia/Darwin:20191114T233000
DTSTAMP:20191104T075216Z
URL:https://topendhash.com/events/run-number-958-need-a-hare/
SUMMARY:Run Number 958 - Skirt and Dicky Knee at 1 Limbunya Place\, Farrar 
 - CLICK ON THIS LINK FOR GOOGLE MAP
DESCRIPTION:1 Limbunya Place\, Farrar\n\nClick on the top left hand side of
  the map to enlarge\n\n
END:VEVENT
BEGIN:VTIMEZONE
TZID:Australia/Darwin
X-LIC-LOCATION:Australia/Darwin
BEGIN:STANDARD
DTSTART:20181114T180000
TZOFFSETFROM:+0930
TZOFFSETTO:+0930
TZNAME:ACST
END:STANDARD
END:VTIMEZONE
END:VCALENDAR