BEGIN:VCALENDAR
VERSION:2.0
PRODID:-//wp-events-plugin.com//7.2.3.1//EN
TZID:Australia/Darwin
X-WR-TIMEZONE:Australia/Darwin
BEGIN:VEVENT
UID:34@topendhash.com
DTSTART;TZID=Australia/Darwin:20191107T180000
DTEND;TZID=Australia/Darwin:20191107T233000
DTSTAMP:20191103T042251Z
URL:https://topendhash.com/events/run-number-957-rocky/
SUMMARY:Run Number 957 - Rocky - At 30 Griffe Street Nakara - CLICK ON THIS
  LINK FOR GOOGLE MAPS
DESCRIPTION:30 Griffe Street\nNakara\n\nClick on the top left hand side of 
 the map to enlarge\n\n
END:VEVENT
BEGIN:VTIMEZONE
TZID:Australia/Darwin
X-LIC-LOCATION:Australia/Darwin
BEGIN:STANDARD
DTSTART:20181107T180000
TZOFFSETFROM:+0930
TZOFFSETTO:+0930
TZNAME:ACST
END:STANDARD
END:VTIMEZONE
END:VCALENDAR