BEGIN:VCALENDAR
VERSION:2.0
PRODID:-//wp-events-plugin.com//7.2.3.1//EN
TZID:Australia/Darwin
X-WR-TIMEZONE:Australia/Darwin
BEGIN:VEVENT
UID:32@topendhash.com
DTSTART;TZID=Australia/Darwin:20191031T180000
DTEND;TZID=Australia/Darwin:20191031T233000
DTSTAMP:20191019T034711Z
URL:https://topendhash.com/events/run-number-956-shit-happens-and-bot-bot/
SUMMARY:Run Number 956 - Shit Happens and Bot Bot - Run is from Linco Road 
 - Palmerston Rural Hospital - CLICK ON THIS LINK FOR GOOGLE MAP
DESCRIPTION:Linco Road\nPALMERSTON RURAL HOSPITAL\n\nClick Top Left Hand Si
 de of map to enlarge\n\n
END:VEVENT
BEGIN:VTIMEZONE
TZID:Australia/Darwin
X-LIC-LOCATION:Australia/Darwin
BEGIN:STANDARD
DTSTART:20181031T180000
TZOFFSETFROM:+0930
TZOFFSETTO:+0930
TZNAME:ACST
END:STANDARD
END:VTIMEZONE
END:VCALENDAR