BEGIN:VCALENDAR
VERSION:2.0
PRODID:-//wp-events-plugin.com//7.2.3.1//EN
TZID:Australia/Darwin
X-WR-TIMEZONE:Australia/Darwin
BEGIN:VEVENT
UID:26@topendhash.com
DTSTART;TZID=Australia/Darwin:20191017T180000
DTEND;TZID=Australia/Darwin:20191017T235900
DTSTAMP:20191012T012942Z
URL:https://topendhash.com/events/run-number-954-just-leanne-and-dingbat/
SUMMARY:Run Number 954 - Loose Lips and Louis - Jingili Water Gardens  -  C
 LICK ON THIS LINK TO TAKE YOU TO GOOGLE MAPS
DESCRIPTION:Click the top left hand side of the map to enlarge\n\n
END:VEVENT
BEGIN:VTIMEZONE
TZID:Australia/Darwin
X-LIC-LOCATION:Australia/Darwin
BEGIN:STANDARD
DTSTART:20181017T180000
TZOFFSETFROM:+0930
TZOFFSETTO:+0930
TZNAME:ACST
END:STANDARD
END:VTIMEZONE
END:VCALENDAR