BEGIN:VCALENDAR
VERSION:2.0
PRODID:-//wp-events-plugin.com//7.2.3.1//EN
TZID:Australia/Darwin
X-WR-TIMEZONE:Australia/Darwin
BEGIN:VEVENT
UID:29@topendhash.com
DTSTART;TZID=Australia/Darwin:20191003T180000
DTEND;TZID=Australia/Darwin:20191003T233000
DTSTAMP:20190923T115605Z
URL:https://topendhash.com/events/run-number-952-need-a-hare/
SUMMARY:Run Number 952 - 3D and Holy Hell  - This is a Plate Run - CLICK ON
  THIS LINK FOR MISDIRECTIONS AND OTHER INFO
DESCRIPTION:Mathew Hopkins Road\, Holtz\n\nThis run is a plate run.\nBring 
 a plate of food (enough for you and one other - or more if you want)\nPut 
 it on the table and mash up once the GM has finished icing everyone.\n\n
LOCATION:Mathew Hopkins Road\, Holtze\, 16-4 Mathew Hopkins Rd\, Holtze\, A
 ustria
GEO:-12.4561617;130.98500089999993
X-APPLE-STRUCTURED-LOCATION;VALUE=URI;X-ADDRESS=16-4 Mathew Hopkins Rd\, Ho
 ltze\, Austria;X-APPLE-RADIUS=100;X-TITLE=Mathew Hopkins Road\, Holtze:geo
 :-12.4561617,130.98500089999993
END:VEVENT
BEGIN:VTIMEZONE
TZID:Australia/Darwin
X-LIC-LOCATION:Australia/Darwin
BEGIN:STANDARD
DTSTART:20181003T180000
TZOFFSETFROM:+0930
TZOFFSETTO:+0930
TZNAME:ACST
END:STANDARD
END:VTIMEZONE
END:VCALENDAR