BEGIN:VCALENDAR
VERSION:2.0
PRODID:-//wp-events-plugin.com//7.2.3.1//EN
TZID:Australia/Darwin
X-WR-TIMEZONE:Australia/Darwin
BEGIN:VEVENT
UID:28@topendhash.com
DTSTART;TZID=Australia/Darwin:20190926T180000
DTEND;TZID=Australia/Darwin:20190926T233000
DTSTAMP:20190922T092415Z
URL:https://topendhash.com/events/run-number-951-need-a-hare/
SUMMARY:Run Number 951 - Bot Bot and Shit Happens at Intersection of Coffey
  and Bree Street - Wishart Business Precinct (near Durack) - CLICK ON THIS
  LINK FOR GOOGLE MAP
DESCRIPTION:﻿
END:VEVENT
BEGIN:VTIMEZONE
TZID:Australia/Darwin
X-LIC-LOCATION:Australia/Darwin
BEGIN:STANDARD
DTSTART:20180926T180000
TZOFFSETFROM:+0930
TZOFFSETTO:+0930
TZNAME:ACST
END:STANDARD
END:VTIMEZONE
END:VCALENDAR