BEGIN:VCALENDAR
VERSION:2.0
PRODID:-//wp-events-plugin.com//7.2.3.1//EN
TZID:Australia/Darwin
X-WR-TIMEZONE:Australia/Darwin
BEGIN:VEVENT
UID:24@topendhash.com
DTSTART;TZID=Australia/Darwin:20190919T180000
DTEND;TZID=Australia/Darwin:20190919T230000
DTSTAMP:20190917T121406Z
URL:https://topendhash.com/events/run-number-950-gm/
SUMMARY:Run Number 950 – GM and Hazbean at  Valley Road\, Hidden Valley  
 - CLICK ON THIS LINK FOR GOOGLE MAP LINK
DESCRIPTION:
END:VEVENT
BEGIN:VTIMEZONE
TZID:Australia/Darwin
X-LIC-LOCATION:Australia/Darwin
BEGIN:STANDARD
DTSTART:20180919T180000
TZOFFSETFROM:+0930
TZOFFSETTO:+0930
TZNAME:ACST
END:STANDARD
END:VTIMEZONE
END:VCALENDAR