BEGIN:VCALENDAR
VERSION:2.0
PRODID:-//wp-events-plugin.com//7.2.3.1//EN
TZID:Australia/Darwin
X-WR-TIMEZONE:Australia/Darwin
BEGIN:VEVENT
UID:23@topendhash.com
DTSTART;TZID=Australia/Darwin:20190912T180000
DTEND;TZID=Australia/Darwin:20190912T230000
DTSTAMP:20190606T233612Z
URL:https://topendhash.com/events/run-number-948-need-a-hare-2/
SUMMARY:Run Number 949 – Skiddy
DESCRIPTION:
LOCATION:31 Tambling Terrace\, 31 Tambling Terrace\, Wanguri\, N.T.\, Austr
 alia
GEO:-12.3662541;130.88775140000007
X-APPLE-STRUCTURED-LOCATION;VALUE=URI;X-ADDRESS=31 Tambling Terrace\, Wangu
 ri\, N.T.\, Australia;X-APPLE-RADIUS=100;X-TITLE=31 Tambling Terrace:geo:-
 12.3662541,130.88775140000007
END:VEVENT
BEGIN:VTIMEZONE
TZID:Australia/Darwin
X-LIC-LOCATION:Australia/Darwin
BEGIN:STANDARD
DTSTART:20180912T180000
TZOFFSETFROM:+0930
TZOFFSETTO:+0930
TZNAME:ACST
END:STANDARD
END:VTIMEZONE
END:VCALENDAR