BEGIN:VCALENDAR
VERSION:2.0
PRODID:-//wp-events-plugin.com//7.2.3.1//EN
TZID:Australia/Darwin
X-WR-TIMEZONE:Australia/Darwin
BEGIN:VEVENT
UID:355@topendhash.com
DTSTART;TZID=Australia/Darwin:20240808T180000
DTEND;TZID=Australia/Darwin:20240808T230000
DTSTAMP:20240610T013416Z
URL:https://topendhash.com/events/run-number-1216-5-sittella-road-bb-and-c
 umalot/
SUMMARY:Run Number 1217 - 5 Sittella Road - BB and Cumalot
DESCRIPTION:
END:VEVENT
BEGIN:VTIMEZONE
TZID:Australia/Darwin
X-LIC-LOCATION:Australia/Darwin
BEGIN:STANDARD
DTSTART:20230809T180000
TZOFFSETFROM:+0930
TZOFFSETTO:+0930
TZNAME:ACST
END:STANDARD
END:VTIMEZONE
END:VCALENDAR