BEGIN:VCALENDAR
VERSION:2.0
PRODID:-//wp-events-plugin.com//7.2.3.1//EN
TZID:Australia/Darwin
X-WR-TIMEZONE:Australia/Darwin
BEGIN:VEVENT
UID:352@topendhash.com
DTSTART;TZID=Australia/Darwin:20240711T180000
DTEND;TZID=Australia/Darwin:20240711T230000
DTSTAMP:20240610T012133Z
URL:https://topendhash.com/events/run-number-1213-tba/
SUMMARY:Run Number 1213 - 31 Tambling Terrace\, Wanguri - Skiddy and Mr Bal
 ldangles
DESCRIPTION:
END:VEVENT
BEGIN:VTIMEZONE
TZID:Australia/Darwin
X-LIC-LOCATION:Australia/Darwin
BEGIN:STANDARD
DTSTART:20230712T180000
TZOFFSETFROM:+0930
TZOFFSETTO:+0930
TZNAME:ACST
END:STANDARD
END:VTIMEZONE
END:VCALENDAR