BEGIN:VCALENDAR
VERSION:2.0
PRODID:-//wp-events-plugin.com//7.2.3.1//EN
TZID:Australia/Darwin
X-WR-TIMEZONE:Australia/Darwin
BEGIN:VEVENT
UID:351@topendhash.com
DTSTART;TZID=Australia/Darwin:20240704T180000
DTEND;TZID=Australia/Darwin:20240704T230000
DTSTAMP:20240701T113124Z
URL:https://topendhash.com/events/run-number-1212-tba/
SUMMARY:Run Number 1212 - Veterinary Hospital\, 66 University Avenue\, Dura
 ck - Stoned and Amin
DESCRIPTION:https://maps.app.goo.gl/PjFFm5JkPqf6RsFU7
END:VEVENT
BEGIN:VTIMEZONE
TZID:Australia/Darwin
X-LIC-LOCATION:Australia/Darwin
BEGIN:STANDARD
DTSTART:20230705T180000
TZOFFSETFROM:+0930
TZOFFSETTO:+0930
TZNAME:ACST
END:STANDARD
END:VTIMEZONE
END:VCALENDAR