BEGIN:VCALENDAR
VERSION:2.0
PRODID:-//wp-events-plugin.com//7.2.3.1//EN
TZID:Australia/Darwin
X-WR-TIMEZONE:Australia/Darwin
BEGIN:VEVENT
UID:349@topendhash.com
DTSTART;TZID=Australia/Darwin:20240620T180000
DTEND;TZID=Australia/Darwin:20240620T230000
DTSTAMP:20240620T031746Z
URL:https://topendhash.com/events/run-number-1209-tba/
SUMMARY:Run Number 1210 - Berrimah Scout Hall\, Knuckey Lagoon
DESCRIPTION:Berrimah Scout Hall\, Knuckey Lagoon\n\n\n\n
END:VEVENT
BEGIN:VTIMEZONE
TZID:Australia/Darwin
X-LIC-LOCATION:Australia/Darwin
BEGIN:STANDARD
DTSTART:20230621T180000
TZOFFSETFROM:+0930
TZOFFSETTO:+0930
TZNAME:ACST
END:STANDARD
END:VTIMEZONE
END:VCALENDAR