BEGIN:VCALENDAR
VERSION:2.0
PRODID:-//wp-events-plugin.com//7.2.3.1//EN
TZID:Australia/Darwin
X-WR-TIMEZONE:Australia/Darwin
BEGIN:VEVENT
UID:343@topendhash.com
DTSTART;TZID=Australia/Darwin:20240523T180000
DTEND;TZID=Australia/Darwin:20240523T230000
DTSTAMP:20240521T105555Z
URL:https://topendhash.com/events/run-number-1203-tba/
SUMMARY:Run Number 1204 - Blue Balls and Cumalot - 5 Sittella Road\, Howard
  Springs NT – Click on this link for Misdirections
DESCRIPTION:5 Sittella Road\, Howard Springs NT - "The best way to get to C
 umalot and Blue Balls place is:\n•         Travel down Howard Springs/Gu
 nn Point Road for approximately 6 kilometres\n•         Turn Right onto 
 Sittella Road\n•         House is the last on the Right "\n\n\n
END:VEVENT
BEGIN:VTIMEZONE
TZID:Australia/Darwin
X-LIC-LOCATION:Australia/Darwin
BEGIN:STANDARD
DTSTART:20230524T180000
TZOFFSETFROM:+0930
TZOFFSETTO:+0930
TZNAME:ACST
END:STANDARD
END:VTIMEZONE
END:VCALENDAR