BEGIN:VCALENDAR
VERSION:2.0
PRODID:-//wp-events-plugin.com//7.2.3.1//EN
TZID:Australia/Darwin
X-WR-TIMEZONE:Australia/Darwin
BEGIN:VEVENT
UID:342@topendhash.com
DTSTART;TZID=Australia/Darwin:20240502T180000
DTEND;TZID=Australia/Darwin:20240502T230000
DTSTAMP:20240423T073336Z
URL:https://topendhash.com/events/run-number-1202-tba/
SUMMARY:Run Number 1201 - Crusty Crab and Wet Spot - 77 May Street Parap 
 – Click on this link for Misdirections
DESCRIPTION:77 May Street Parap\n\n\n\n
END:VEVENT
BEGIN:VTIMEZONE
TZID:Australia/Darwin
X-LIC-LOCATION:Australia/Darwin
BEGIN:STANDARD
DTSTART:20230503T180000
TZOFFSETFROM:+0930
TZOFFSETTO:+0930
TZNAME:ACST
END:STANDARD
END:VTIMEZONE
END:VCALENDAR