BEGIN:VCALENDAR
VERSION:2.0
PRODID:-//wp-events-plugin.com//7.2.3.1//EN
TZID:Australia/Darwin
X-WR-TIMEZONE:Australia/Darwin
BEGIN:VEVENT
UID:341@topendhash.com
DTSTART;TZID=Australia/Darwin:20240509T180000
DTEND;TZID=Australia/Darwin:20240509T230000
DTSTAMP:20240414T100206Z
URL:https://topendhash.com/events/run-number-1200-tba/
SUMMARY:Run Number 1202 - Dingbat & Anonomouse - Carpark at University Aven
 ue Veterinary Hospital Durack – Click on this link for Misdirections
DESCRIPTION:Carpark at University Avenue Veterinary Hospital Durack\n\n\n
END:VEVENT
BEGIN:VTIMEZONE
TZID:Australia/Darwin
X-LIC-LOCATION:Australia/Darwin
BEGIN:STANDARD
DTSTART:20230510T180000
TZOFFSETFROM:+0930
TZOFFSETTO:+0930
TZNAME:ACST
END:STANDARD
END:VTIMEZONE
END:VCALENDAR