BEGIN:VCALENDAR
VERSION:2.0
PRODID:-//wp-events-plugin.com//7.2.3.1//EN
TZID:Australia/Darwin
X-WR-TIMEZONE:Australia/Darwin
BEGIN:VEVENT
UID:338@topendhash.com
DTSTART;TZID=Australia/Darwin:20240411T180000
DTEND;TZID=Australia/Darwin:20240411T230000
DTSTAMP:20240407T002543Z
URL:https://topendhash.com/events/run-number-1198-tba/
SUMMARY:Run Number 1198 - Inspect Her Gadget & Crew - 30 Rosella Crescent W
 ulagi – Click on this link for Misdirections
DESCRIPTION:30 Rosella Crescent Wulagi\n\n\n
END:VEVENT
BEGIN:VTIMEZONE
TZID:Australia/Darwin
X-LIC-LOCATION:Australia/Darwin
BEGIN:STANDARD
DTSTART:20230412T180000
TZOFFSETFROM:+0930
TZOFFSETTO:+0930
TZNAME:ACST
END:STANDARD
END:VTIMEZONE
END:VCALENDAR