BEGIN:VCALENDAR
VERSION:2.0
PRODID:-//wp-events-plugin.com//7.2.3.1//EN
TZID:Australia/Darwin
X-WR-TIMEZONE:Australia/Darwin
BEGIN:VEVENT
UID:335@topendhash.com
DTSTART;TZID=Australia/Darwin:20240321T180000
DTEND;TZID=Australia/Darwin:20240321T230000
DTSTAMP:20240315T034227Z
URL:https://topendhash.com/events/run-number-1195-tba/
SUMMARY:Run Number 1195 - Durex and Playschool Underground Car Wash next to
  AWS Mechanical and Tyrepower - 131 Stuart Highway\, Stuart Park - Click o
 n this link for misdirections
DESCRIPTION:Underground Car Wash next to AWS Mechanical and Tyrepower - 131
  Stuart Highway\, Stuart Park\n\n\n
END:VEVENT
BEGIN:VTIMEZONE
TZID:Australia/Darwin
X-LIC-LOCATION:Australia/Darwin
BEGIN:STANDARD
DTSTART:20230322T180000
TZOFFSETFROM:+0930
TZOFFSETTO:+0930
TZNAME:ACST
END:STANDARD
END:VTIMEZONE
END:VCALENDAR