BEGIN:VCALENDAR
VERSION:2.0
PRODID:-//wp-events-plugin.com//7.2.3.1//EN
TZID:Australia/Darwin
X-WR-TIMEZONE:Australia/Darwin
BEGIN:VEVENT
UID:334@topendhash.com
DTSTART;TZID=Australia/Darwin:20240314T180000
DTEND;TZID=Australia/Darwin:20240314T230000
DTSTAMP:20240302T040345Z
URL:https://topendhash.com/events/run-number-1194-tba/
SUMMARY:Run Number 1194 - Whazisname - Hobart Park Hobart Cres\, Johnston N
 T aka (Dingbat Park) – Click on this link for Misdirections
DESCRIPTION:Hobart Park Hobart Cres\, Johnston NT aka (Dingbat Park)\n\n\n
END:VEVENT
BEGIN:VTIMEZONE
TZID:Australia/Darwin
X-LIC-LOCATION:Australia/Darwin
BEGIN:STANDARD
DTSTART:20230315T180000
TZOFFSETFROM:+0930
TZOFFSETTO:+0930
TZNAME:ACST
END:STANDARD
END:VTIMEZONE
END:VCALENDAR