BEGIN:VCALENDAR
VERSION:2.0
PRODID:-//wp-events-plugin.com//7.2.3.1//EN
TZID:Australia/Darwin
X-WR-TIMEZONE:Australia/Darwin
BEGIN:VEVENT
UID:331@topendhash.com
DTSTART;TZID=Australia/Darwin:20240222T180000
DTEND;TZID=Australia/Darwin:20240222T230000
DTSTAMP:20240210T221730Z
URL:https://topendhash.com/events/run-number-1191-tba/
SUMMARY:Run Number 1191 - Slip Up & Jumping Jack - Rotunda at the end of Ea
 st Point Reserve – Click on this link for Misdirections
DESCRIPTION:East point BBQ pit near rock sitters club\n\n\n\n
END:VEVENT
BEGIN:VTIMEZONE
TZID:Australia/Darwin
X-LIC-LOCATION:Australia/Darwin
BEGIN:STANDARD
DTSTART:20230222T180000
TZOFFSETFROM:+0930
TZOFFSETTO:+0930
TZNAME:ACST
END:STANDARD
END:VTIMEZONE
END:VCALENDAR