BEGIN:VCALENDAR
VERSION:2.0
PRODID:-//wp-events-plugin.com//7.2.3.1//EN
TZID:Australia/Darwin
X-WR-TIMEZONE:Australia/Darwin
BEGIN:VEVENT
UID:324@topendhash.com
DTSTART;TZID=Australia/Darwin:20240104T180000
DTEND;TZID=Australia/Darwin:20240104T230000
DTSTAMP:20231229T004647Z
URL:https://topendhash.com/events/run-number-1183-tba/
SUMMARY:Run Number 1184 - CBD - 26 Oriole St\, Wulagi. – Click on this li
 nk for Misdirections
DESCRIPTION:26 Oriole St\, Wulagi\n\n\n\n\n\n
END:VEVENT
BEGIN:VTIMEZONE
TZID:Australia/Darwin
X-LIC-LOCATION:Australia/Darwin
BEGIN:STANDARD
DTSTART:20230104T180000
TZOFFSETFROM:+0930
TZOFFSETTO:+0930
TZNAME:ACST
END:STANDARD
END:VTIMEZONE
END:VCALENDAR