BEGIN:VCALENDAR
VERSION:2.0
PRODID:-//wp-events-plugin.com//7.2.3.1//EN
TZID:Australia/Darwin
X-WR-TIMEZONE:Australia/Darwin
BEGIN:VEVENT
UID:326@topendhash.com
DTSTART;TZID=Australia/Darwin:20240118T180000
DTEND;TZID=Australia/Darwin:20240118T230000
DTSTAMP:20240112T015046Z
URL:https://topendhash.com/events/run-number-1183-tba-3/
SUMMARY:Run Number 1186 - Karaoke - 18 Sandalwood St\, Nightcliff NT – Cl
 ick on this link for Misdirections
DESCRIPTION:18 Sandalwood St\, Nightcliff \n\n\n
END:VEVENT
BEGIN:VTIMEZONE
TZID:Australia/Darwin
X-LIC-LOCATION:Australia/Darwin
BEGIN:STANDARD
DTSTART:20230118T180000
TZOFFSETFROM:+0930
TZOFFSETTO:+0930
TZNAME:ACST
END:STANDARD
END:VTIMEZONE
END:VCALENDAR