BEGIN:VCALENDAR
VERSION:2.0
PRODID:-//wp-events-plugin.com//7.2.3.1//EN
TZID:Australia/Darwin
X-WR-TIMEZONE:Australia/Darwin
BEGIN:VEVENT
UID:325@topendhash.com
DTSTART;TZID=Australia/Darwin:20240111T180000
DTEND;TZID=Australia/Darwin:20240111T230000
DTSTAMP:20231229T004826Z
URL:https://topendhash.com/events/run-number-1183-tba-2/
SUMMARY:Run Number 1185 - Rough Red and Take Over - 27 Paspaley Place Culle
 n Bay – Click on this link for Misdirections
DESCRIPTION:27 Paspaley Place Cullen Bay\n\n\n
END:VEVENT
BEGIN:VTIMEZONE
TZID:Australia/Darwin
X-LIC-LOCATION:Australia/Darwin
BEGIN:STANDARD
DTSTART:20230111T180000
TZOFFSETFROM:+0930
TZOFFSETTO:+0930
TZNAME:ACST
END:STANDARD
END:VTIMEZONE
END:VCALENDAR