BEGIN:VCALENDAR
VERSION:2.0
PRODID:-//wp-events-plugin.com//7.2.3.1//EN
TZID:Australia/Darwin
X-WR-TIMEZONE:Australia/Darwin
BEGIN:VEVENT
UID:323@topendhash.com
DTSTART;TZID=Australia/Darwin:20231221T180000
DTEND;TZID=Australia/Darwin:20231221T230000
DTSTAMP:20231201T015539Z
URL:https://topendhash.com/events/run-number-1182-tba/
SUMMARY:Run Number 1182 - Killer and Flaccid - 10 Carrington St\, Millner 
 – Click on this link for Misdirections
DESCRIPTION:10 Carrington St\, Millner\n\n\n
END:VEVENT
BEGIN:VTIMEZONE
TZID:Australia/Darwin
X-LIC-LOCATION:Australia/Darwin
BEGIN:STANDARD
DTSTART:20221221T180000
TZOFFSETFROM:+0930
TZOFFSETTO:+0930
TZNAME:ACST
END:STANDARD
END:VTIMEZONE
END:VCALENDAR