BEGIN:VCALENDAR
VERSION:2.0
PRODID:-//wp-events-plugin.com//7.2.3.1//EN
TZID:Australia/Darwin
X-WR-TIMEZONE:Australia/Darwin
BEGIN:VEVENT
UID:319@topendhash.com
DTSTART;TZID=Australia/Darwin:20231123T180000
DTEND;TZID=Australia/Darwin:20231123T233000
DTSTAMP:20231029T065141Z
URL:https://topendhash.com/events/run-number-1178-tba/
SUMMARY:Run Number 1178 - Skiddy and Balldangles - 31 Tambling Terrace\, Wa
 nguri – Click on this link for Misdirections
DESCRIPTION:1 Tambling Terrace\, Wanguri\n\n
END:VEVENT
BEGIN:VTIMEZONE
TZID:Australia/Darwin
X-LIC-LOCATION:Australia/Darwin
BEGIN:STANDARD
DTSTART:20221123T180000
TZOFFSETFROM:+0930
TZOFFSETTO:+0930
TZNAME:ACST
END:STANDARD
END:VTIMEZONE
END:VCALENDAR