BEGIN:VCALENDAR
VERSION:2.0
PRODID:-//wp-events-plugin.com//7.2.3.1//EN
TZID:Australia/Darwin
X-WR-TIMEZONE:Australia/Darwin
BEGIN:VEVENT
UID:318@topendhash.com
DTSTART;TZID=Australia/Darwin:20231116T180000
DTEND;TZID=Australia/Darwin:20231116T233000
DTSTAMP:20231112T032835Z
URL:https://topendhash.com/events/run-number-1176-tba/
SUMMARY:Run Number 1177 - Slip Up & Jumping Jack - Rotunda at the end of Ea
 st Point Reserve – Click on this link for Misdirections
DESCRIPTION:Rotunda at the end of East Point Reserve\n\n\n\n
END:VEVENT
BEGIN:VTIMEZONE
TZID:Australia/Darwin
X-LIC-LOCATION:Australia/Darwin
BEGIN:STANDARD
DTSTART:20221116T180000
TZOFFSETFROM:+0930
TZOFFSETTO:+0930
TZNAME:ACST
END:STANDARD
END:VTIMEZONE
END:VCALENDAR