BEGIN:VCALENDAR
VERSION:2.0
PRODID:-//wp-events-plugin.com//7.2.3.1//EN
TZID:Australia/Darwin
X-WR-TIMEZONE:Australia/Darwin
BEGIN:VEVENT
UID:316@topendhash.com
DTSTART;TZID=Australia/Darwin:20231102T180000
DTEND;TZID=Australia/Darwin:20231102T233000
DTSTAMP:20231029T064553Z
URL:https://topendhash.com/events/run-number-1174/
SUMMARY:Run Number 1175 - Amin and Jugs - Old hospital grounds - Opposite T
 he General Coffee Shop – Click on this link for Misdirections
DESCRIPTION:Old hospital grounds - Opposite The General Coffee Shop\n\n
END:VEVENT
BEGIN:VTIMEZONE
TZID:Australia/Darwin
X-LIC-LOCATION:Australia/Darwin
BEGIN:STANDARD
DTSTART:20221102T180000
TZOFFSETFROM:+0930
TZOFFSETTO:+0930
TZNAME:ACST
END:STANDARD
END:VTIMEZONE
END:VCALENDAR