BEGIN:VCALENDAR
VERSION:2.0
PRODID:-//wp-events-plugin.com//7.2.3.1//EN
TZID:Australia/Darwin
X-WR-TIMEZONE:Australia/Darwin
BEGIN:VEVENT
UID:315@topendhash.com
DTSTART;TZID=Australia/Darwin:20231019T180000
DTEND;TZID=Australia/Darwin:20231019T233000
DTSTAMP:20230919T104718Z
URL:https://topendhash.com/events/run-number-1173/
SUMMARY:Run Number 1173 - Blue Balls and Cumalot - 5 Sittella Road\, Howard
  Springs NT – Click on this link for Misdirections
DESCRIPTION:5 Sittella Road\, Howard Springs NT\n\n\n
END:VEVENT
BEGIN:VTIMEZONE
TZID:Australia/Darwin
X-LIC-LOCATION:Australia/Darwin
BEGIN:STANDARD
DTSTART:20221019T180000
TZOFFSETFROM:+0930
TZOFFSETTO:+0930
TZNAME:ACST
END:STANDARD
END:VTIMEZONE
END:VCALENDAR