BEGIN:VCALENDAR
VERSION:2.0
PRODID:-//wp-events-plugin.com//7.2.3.1//EN
TZID:Australia/Darwin
X-WR-TIMEZONE:Australia/Darwin
BEGIN:VEVENT
UID:314@topendhash.com
DTSTART;TZID=Australia/Darwin:20231012T180000
DTEND;TZID=Australia/Darwin:20231012T233000
DTSTAMP:20230919T104319Z
URL:https://topendhash.com/events/run-number-1172-crusty-crab-and-wet-spot
 -fishermans-wharf-click-on-this-link-for-misdirections/
SUMMARY:Run Number 1172 - Crusty Crab and Wet Spot - Fishermans Wharf – C
 lick on this link for Misdirections
DESCRIPTION:Fisherman's Wharf \n\n\n\n
END:VEVENT
BEGIN:VTIMEZONE
TZID:Australia/Darwin
X-LIC-LOCATION:Australia/Darwin
BEGIN:STANDARD
DTSTART:20221012T180000
TZOFFSETFROM:+0930
TZOFFSETTO:+0930
TZNAME:ACST
END:STANDARD
END:VTIMEZONE
END:VCALENDAR