BEGIN:VCALENDAR
VERSION:2.0
PRODID:-//wp-events-plugin.com//7.2.3.1//EN
TZID:Australia/Darwin
X-WR-TIMEZONE:Australia/Darwin
BEGIN:VEVENT
UID:306@topendhash.com
DTSTART;TZID=Australia/Darwin:20231109T180000
DTEND;TZID=Australia/Darwin:20231109T233000
DTSTAMP:20231029T064839Z
URL:https://topendhash.com/events/run-number-1171inspect-her-gadget-crew-3
 0-rosella-crescent-wulagi-click-on-this-link-for-misdirections/
SUMMARY:Run Number 1176 - Durex and Playschool - Shed 1 /4 Roni Court\, Win
 nellie\, off Hook Road – Click on this link for Misdirections
DESCRIPTION:Shed 1 /4 Roni Court\, Winnellie\, off Hook Road\n\n
END:VEVENT
BEGIN:VTIMEZONE
TZID:Australia/Darwin
X-LIC-LOCATION:Australia/Darwin
BEGIN:STANDARD
DTSTART:20221109T180000
TZOFFSETFROM:+0930
TZOFFSETTO:+0930
TZNAME:ACST
END:STANDARD
END:VTIMEZONE
END:VCALENDAR