BEGIN:VCALENDAR
VERSION:2.0
PRODID:-//wp-events-plugin.com//7.2.3.1//EN
TZID:Australia/Darwin
X-WR-TIMEZONE:Australia/Darwin
BEGIN:VEVENT
UID:305@topendhash.com
DTSTART;TZID=Australia/Darwin:20230928T180000
DTEND;TZID=Australia/Darwin:20230928T233000
DTSTAMP:20230922T043515Z
URL:https://topendhash.com/events/run-number-1170-tba/
SUMMARY:Run Number 1170 - Committee Run - Dinah Beach Oval – Click on thi
 s link for Misdirections
DESCRIPTION:Dinah Beach Oval\n\n\n\n
END:VEVENT
BEGIN:VTIMEZONE
TZID:Australia/Darwin
X-LIC-LOCATION:Australia/Darwin
BEGIN:STANDARD
DTSTART:20220928T180000
TZOFFSETFROM:+0930
TZOFFSETTO:+0930
TZNAME:ACST
END:STANDARD
END:VTIMEZONE
END:VCALENDAR