BEGIN:VCALENDAR
VERSION:2.0
PRODID:-//wp-events-plugin.com//7.2.3.1//EN
TZID:Australia/Darwin
X-WR-TIMEZONE:Australia/Darwin
BEGIN:VEVENT
UID:304@topendhash.com
DTSTART;TZID=Australia/Darwin:20230921T180000
DTEND;TZID=Australia/Darwin:20230921T233000
DTSTAMP:20230919T102223Z
URL:https://topendhash.com/events/run-number-1169-tba/
SUMMARY:Run Number 1169 - Skiddy and Balldangles - Casuarina Free Beach Car
 park (Nudist Beach Carpark) – Click on this link for Misdirections
DESCRIPTION:Casuarina Free Beach Carpark (Nudist Beach Carpark.)\n\n\n
END:VEVENT
BEGIN:VTIMEZONE
TZID:Australia/Darwin
X-LIC-LOCATION:Australia/Darwin
BEGIN:STANDARD
DTSTART:20220921T180000
TZOFFSETFROM:+0930
TZOFFSETTO:+0930
TZNAME:ACST
END:STANDARD
END:VTIMEZONE
END:VCALENDAR