BEGIN:VCALENDAR
VERSION:2.0
PRODID:-//wp-events-plugin.com//7.2.3.1//EN
TZID:Australia/Darwin
X-WR-TIMEZONE:Australia/Darwin
BEGIN:VEVENT
UID:303@topendhash.com
DTSTART;TZID=Australia/Darwin:20230914T180000
DTEND;TZID=Australia/Darwin:20230914T233000
DTSTAMP:20230813T103742Z
URL:https://topendhash.com/events/run-number-1168-mixed-grill-95-london-ro
 ad-virginia-click-on-this-link-for-misdirections/
SUMMARY:Run Number 1168 - Mixed Grill - 95 London Road Virginia – Click o
 n this link for Misdirections
DESCRIPTION:95 London Road Virginia\n\n
END:VEVENT
BEGIN:VTIMEZONE
TZID:Australia/Darwin
X-LIC-LOCATION:Australia/Darwin
BEGIN:STANDARD
DTSTART:20220914T180000
TZOFFSETFROM:+0930
TZOFFSETTO:+0930
TZNAME:ACST
END:STANDARD
END:VTIMEZONE
END:VCALENDAR