BEGIN:VCALENDAR
VERSION:2.0
PRODID:-//wp-events-plugin.com//7.2.3.1//EN
TZID:Australia/Darwin
X-WR-TIMEZONE:Australia/Darwin
BEGIN:VEVENT
UID:299@topendhash.com
DTSTART;TZID=Australia/Darwin:20230824T180000
DTEND;TZID=Australia/Darwin:20230824T233000
DTSTAMP:20230820T013447Z
URL:https://topendhash.com/events/run-number-1165-tba-click-on-this-link-f
 or-misdirections/
SUMMARY:Run Number 1165 - Lois and Loose Lips - 10 Aldridge Place\, Millner
  – Click on this link for Misdirections
DESCRIPTION:10 Aldridge Place\, Millner\n\n
END:VEVENT
BEGIN:VTIMEZONE
TZID:Australia/Darwin
X-LIC-LOCATION:Australia/Darwin
BEGIN:STANDARD
DTSTART:20220824T180000
TZOFFSETFROM:+0930
TZOFFSETTO:+0930
TZNAME:ACST
END:STANDARD
END:VTIMEZONE
END:VCALENDAR