BEGIN:VCALENDAR
VERSION:2.0
PRODID:-//wp-events-plugin.com//7.2.3.1//EN
TZID:Australia/Darwin
X-WR-TIMEZONE:Australia/Darwin
BEGIN:VEVENT
UID:298@topendhash.com
DTSTART;TZID=Australia/Darwin:20230817T180000
DTEND;TZID=Australia/Darwin:20230817T233000
DTSTAMP:20230813T102525Z
URL:https://topendhash.com/events/run-number-1164-tba-click-on-this-link-f
 or-google-map/
SUMMARY:Run Number 1164 - Hazbean and Jugs - 90 Allwright Street Wanguri 
 – Click on this link for Misdirections
DESCRIPTION:90 Allwright Street Wanguri\n\n\n
END:VEVENT
BEGIN:VTIMEZONE
TZID:Australia/Darwin
X-LIC-LOCATION:Australia/Darwin
BEGIN:STANDARD
DTSTART:20220817T180000
TZOFFSETFROM:+0930
TZOFFSETTO:+0930
TZNAME:ACST
END:STANDARD
END:VTIMEZONE
END:VCALENDAR