BEGIN:VCALENDAR
VERSION:2.0
PRODID:-//wp-events-plugin.com//7.2.3.1//EN
TZID:Australia/Darwin
X-WR-TIMEZONE:Australia/Darwin
BEGIN:VEVENT
UID:296@topendhash.com
DTSTART;TZID=Australia/Darwin:20230810T180000
DTEND;TZID=Australia/Darwin:20230810T233000
DTSTAMP:20230806T010848Z
URL:https://topendhash.com/events/run-number-1163-tba-click-on-this-link-f
 or-google-map/
SUMMARY:Run Number 1163 - KILLER - 10 or 12 Carrington Street Milner - Clic
 k on this link for Misdirections
DESCRIPTION:10 Carrington Street Millner\n\n\n
END:VEVENT
BEGIN:VTIMEZONE
TZID:Australia/Darwin
X-LIC-LOCATION:Australia/Darwin
BEGIN:STANDARD
DTSTART:20220810T180000
TZOFFSETFROM:+0930
TZOFFSETTO:+0930
TZNAME:ACST
END:STANDARD
END:VTIMEZONE
END:VCALENDAR