BEGIN:VCALENDAR
VERSION:2.0
PRODID:-//wp-events-plugin.com//7.2.3.1//EN
TZID:Australia/Darwin
X-WR-TIMEZONE:Australia/Darwin
BEGIN:VEVENT
UID:124@topendhash.com
DTSTART;TZID=Australia/Darwin:20200806T180000
DTEND;TZID=Australia/Darwin:20200806T233000
DTSTAMP:20200804T044650Z
URL:https://topendhash.com/events/run-996/
SUMMARY:996 - MOUTHFUL AND 457 - Corner of Stuart Highway and Bowhunters Ro
 ad Virginia - CLICK ON THIS LINK FOR MISDIRECTIONS
DESCRIPTION:Corner of Stuart Highway and Bowhunters Road\nVirginia\n\n
END:VEVENT
BEGIN:VTIMEZONE
TZID:Australia/Darwin
X-LIC-LOCATION:Australia/Darwin
BEGIN:STANDARD
DTSTART:20190807T180000
TZOFFSETFROM:+0930
TZOFFSETTO:+0930
TZNAME:ACST
END:STANDARD
END:VTIMEZONE
END:VCALENDAR