BEGIN:VCALENDAR
VERSION:2.0
PRODID:-//wp-events-plugin.com//7.2.3.1//EN
TZID:Australia/Darwin
X-WR-TIMEZONE:Australia/Darwin
BEGIN:VEVENT
UID:108@topendhash.com
DTSTART;TZID=Australia/Darwin:20200611T180000
DTEND;TZID=Australia/Darwin:20200611T233000
DTSTAMP:20200608T001744Z
URL:https://topendhash.com/events/run-988/
SUMMARY:RUN 988 - KILLER AND FLACCID - 31 CARRINGTON ST MILLNER - CLICK ON 
 THIS LINK FOR MISDIRECTIONS
DESCRIPTION:31 Carrington Street Millner\nClick HERE for Google Map to Kill
 ers Place - On On\n\n&nbsp\;\n\n﻿
END:VEVENT
BEGIN:VTIMEZONE
TZID:Australia/Darwin
X-LIC-LOCATION:Australia/Darwin
BEGIN:STANDARD
DTSTART:20190612T180000
TZOFFSETFROM:+0930
TZOFFSETTO:+0930
TZNAME:ACST
END:STANDARD
END:VTIMEZONE
END:VCALENDAR