BEGIN:VCALENDAR
VERSION:2.0
PRODID:-//wp-events-plugin.com//7.2.3.1//EN
TZID:Australia/Darwin
X-WR-TIMEZONE:Australia/Darwin
BEGIN:VEVENT
UID:105@topendhash.com
DTSTART;TZID=Australia/Darwin:20200604T180000
DTEND;TZID=Australia/Darwin:20200604T233000
DTSTAMP:20200530T001500Z
URL:https://topendhash.com/events/run-987-stoned-and-whats-his-name/
SUMMARY:RUN 987 - STONED AND WHATS HIS NAME - NEAR UNIVERSITY VETS - DURACK
  - CLICK ON THIS LINK FOR MISDIRECTIONS
DESCRIPTION:Near University Vets (just off of Woodlake Boulevard) in Durack
 \n\n&nbsp\;\n\nClick here for Google Map\n\n&nbsp\;\n\n
END:VEVENT
BEGIN:VTIMEZONE
TZID:Australia/Darwin
X-LIC-LOCATION:Australia/Darwin
BEGIN:STANDARD
DTSTART:20190605T180000
TZOFFSETFROM:+0930
TZOFFSETTO:+0930
TZNAME:ACST
END:STANDARD
END:VTIMEZONE
END:VCALENDAR