BEGIN:VCALENDAR
VERSION:2.0
PRODID:-//wp-events-plugin.com//7.2.3.1//EN
TZID:Australia/Darwin
X-WR-TIMEZONE:Australia/Darwin
BEGIN:VEVENT
UID:104@topendhash.com
DTSTART;TZID=Australia/Darwin:20200528T180000
DTEND;TZID=Australia/Darwin:20200528T233000
DTSTAMP:20200526T113212Z
URL:https://topendhash.com/events/run-986-shit-happens-and-bot-bot/
SUMMARY:RUN 986 - SHIT HAPPENS AND BOT BOT - 20 CROWN COURT\, DURACK - CLIC
 K ON THIS LINK FOR MISDIRECTIONS
DESCRIPTION:20 Crown Court\, Durack\n\n
END:VEVENT
BEGIN:VTIMEZONE
TZID:Australia/Darwin
X-LIC-LOCATION:Australia/Darwin
BEGIN:STANDARD
DTSTART:20190529T180000
TZOFFSETFROM:+0930
TZOFFSETTO:+0930
TZNAME:ACST
END:STANDARD
END:VTIMEZONE
END:VCALENDAR